BEGIN:VCALENDAR
VERSION:2.0
PRODID:-//wp-events-plugin.com//7.2.3.1//EN
BEGIN:VEVENT
UID:4@edufirstaid.com
DTSTART:20220901T000000Z
DTEND:20230831T000000Z
DTSTAMP:20221214T164928Z
URL:https://edufirstaid.com/events/faa-level-3-award-in-first-aid-at-work-
 qcf-requalification/
SUMMARY:First Aid at Work (REQUAL)
DESCRIPTION:[caption id="attachment_601" align="alignright" width="300"] Fi
 rst Aid at Work Cumbria (Requalfication)[/caption]\nFirst Aid at Work (Req
 ual)\nThis Level 3 First Aid at Work regulated course is aimed at Schools 
 or workplaces that are larger in size\, and are more high risk (such as pl
 aces with DT depts\, maintenance yards\, kitchens etc). It is also the qua
 lification to take if you have lots of employees or pupils on site. It is 
 a thorough course\, which covers medical conditions such as diabetes\, med
 ical emergencies such as heart attacks\, and injuries such as fractures an
 d severe burns\, and the course is made relevant to school\, with experien
 ced educators delivering content who will provide many relevant examples a
 nd scenarios to your workplace.\nThe course will not be "Death by Powerpoi
 nt"\, but will contain a wealth of different learning strategies. The inst
 ructor will use interactive learning experiences that make attendance an e
 njoyable process.\nThe First Aid at Work course is a requalification cours
 e. You are only eligible for this course if you have completed a full Firs
 t Aid at Work course within the last 3 years. It only takes 2 days (rather
  than 3) as the material will be familiar. There are plenty of practical e
 lements to the course and at the end of the two days there is a short\, pa
 per-based test at the end.\nCourse duration: 2 Day course (12 hours)&nbsp\
 ;\nPrice per person: £200\nPrice for a group of 12 (14yrs+*): £1050\nAll
  CPR teaching is approved by the British Heart Foundation\nView all our co
 urses\nView our reviews on our Facebook Page\nYou are able to book the cou
 rse for all employees at your workplace or you can join one of the First A
 id at Work open courses that are published on the EDU First Aid site. To e
 nquire about booking this course for your workplace\, please complete the 
 form below.\nBook this Course\n[contact-form][contact-field label="Name" t
 ype="name" required="1"][contact-field label="Email" type="email" required
 ="1"][contact-field label="Message" type="textarea"][/contact-form]
ATTACH;FMTTYPE=image/jpeg:https://i0.wp.com/edufirstaid.com/wp-content/upl
 oads/2022/08/FAW-requal-FIRST-AID-820-%C3%97-312px-Instagram-Post-Square.j
 pg?fit=1080%2C1080&ssl=1
CATEGORIES:First Aid Courses
END:VEVENT
BEGIN:VEVENT
UID:11@edufirstaid.com
DTSTART:20220901T000000Z
DTEND:20230831T000000Z
DTSTAMP:20221027T124511Z
URL:https://edufirstaid.com/events/level-3-award-in-first-aid-at-work-cumb
 ria/
SUMMARY:First Aid at Work Course (16 Hours)
DESCRIPTION:[caption id="attachment_598" align="alignright" width="300"] Fi
 rst Aid at Work in Cumbria[/caption]\nFirst Aid at Work Course in Cumbria 
 (16 Hours of 2 Days)\nThis Level 3 16 Hour First Aid Course is aimed at Sc
 hools or workplaces that are larger in size\, are more high-risk (such as 
 places with machinery) or have lots of employees and pupils. The course is
  always tailored to be relevant to your school or workplace. It is ideal f
 or teachers who will lead residential or overseas trips\, or Heads of Dept
  in subjects such as DT\, sport or science\, or Estates teams. \n\nIt is a
  very thorough course that demands a good level of education\, it both cov
 ers medical conditions such as diabetes\, medical emergencies such as hear
 t attacks\, and injuries such as fractures and severe burns. Accordingly\,
  due to the breadth of topics covered\, it takes 3 days\, but this can run
  over a number of sessions. There are plenty of practical elements to the 
 course and is completed with some practical assessments and a short\, pape
 r-based test at the end of day 3.\n\nEDU First Aid can deliver this First 
 Aid at Work Course in Cumbria or across the UK.\nTopics covered in the Fir
 st Aid at Work course include:\n\n 	Legalities\, responsibilities and repo
 rting\n 	Control of bleeding\n 	Poisoning\n 	Asthma\n 	Dealing with an unr
 esponsive casualty\n 	Shock (including Anaphylaxis)\n 	Bandaging\n 	Diabet
 es\n 	Fractures and spinal injuries\n 	Heart attacks\n 	Choking\n 	Stroke\
 n 	Resuscitation and AED awareness\n 	Head injuries\n 	Eye injuries\n 	Bur
 ns\n 	Assessment of the situation\n 	Sprains and strains\n 	Chest injuries
 \n 	Epilepsy\n\n&nbsp\;\nWhere can I take the First Aid Training?\nWe deli
 ver this First Aid Course across Cumbria\, and additionally further afield
  across the UK. Please make contact to arrange details.\n&nbsp\;\nWant to 
 renew your First Aid at Work Qualification?\nIf your FAW qualification is 
 due for renewal\, and you undertake it within a month of the expiry date\,
  you can book on a Requalification course. This means that the course only
  takes 2 days\, rather than 3.  You can look at that course here: Requal.
 \n&nbsp\;\nHow long is the First Aid Course?\nCourse duration: 2 Day cours
 e (16 hours). You can split this course over a number of twilight sessions
  by arrangement. \n\nHow much does the First Aid at Work Course Cost?\nPr
 ice per person: £300\nPrice for a group of 12 (14yrs+*): £1550\n&nbsp\;\
 nFurther First Aid Information\nAll CPR teaching is approved by the Briti
 sh Heart Foundation\n\nView all our courses\n\nView our reviews on our F
 acebook Page\n\n&nbsp\;\nFlexible Booking\nYou can book the course for up 
 to 12 employees at your workplace\, or you can join one of the FAW open co
 urses published on the EDU First Aid site.\n\nTo enquire about booking thi
 s course for your workplace\, please complete the form below.\n\nNot the r
 ight course? View all our courses\nBook this Course\n[contact-form][contac
 t-field label="Name" type="name" required="1"][contact-field label="Email"
  type="email" required="1"][contact-field label="Message" type="textarea"]
 [/contact-form]
ATTACH;FMTTYPE=image/jpeg:https://i0.wp.com/edufirstaid.com/wp-content/upl
 oads/2022/08/FAW-FIRST-AID-820-%C3%97-312px-Instagram-Post-Square.jpg?fit=
 1080%2C1080&ssl=1
CATEGORIES:First Aid Courses
END:VEVENT
BEGIN:VEVENT
UID:14@edufirstaid.com
DTSTART:20220914T000000Z
DTEND:20230914T000000Z
DTSTAMP:20220920T154704Z
URL:https://edufirstaid.com/events/level-1-award-in-mental-health-awarenes
 s-for-school-staff/
SUMMARY:Mental Health Awareness (Half Day)
DESCRIPTION:\n\nThis Level 1 ½-Day course provides colleagues with the kno
 wledge to identify suspected mental health conditions and the skills to st
 art a conversation. The purpose is to learn how to signpost the person to
 wards professional help. This course could be offered as a certificated co
 urse for a group of up to 16 colleagues\, or as an uncertificated inset co
 urse for a whole staff body.\n\nTopics covered:\n\n 	What is First Aid for
  Mental Health?\n 	Identifying mental health conditions\n 	Providing advic
 e and starting a conversation\n 	Stress\n 	Mental health conditions\n\nCou
 rse duration: 1/2 Day course (4 hours)\n\nPrice for a group of 16: £300\n
 \n&nbsp\;\nBook this Course\n[contact-form][contact-field label="Name" typ
 e="name" required="1"][contact-field label="Email" type="email" required="
 1"][contact-field label="Message" type="textarea"][/contact-form]
ATTACH;FMTTYPE=image/jpeg:https://i0.wp.com/edufirstaid.com/wp-content/upl
 oads/2022/08/Mental-HEalth-First-aid-12-day.jpg?fit=1080%2C1080&ssl=1
CATEGORIES:First Aid Courses
END:VEVENT
BEGIN:VEVENT
UID:15@edufirstaid.com
DTSTART:20220914T000000Z
DTEND:20230914T000000Z
DTSTAMP:20220920T154728Z
URL:https://edufirstaid.com/events/level-2-award-in-first-aid-for-mental-h
 ealth-for-school-staff-1-day/
SUMMARY:First Aid for Mental Health (1 Day)
DESCRIPTION:\n\nThis Level 2 1-day course provides colleagues with the know
 ledge to identify suspected mental health conditions and the skills to sta
 rt a conversation. Colleagues will learn how to signpost\n\nthe person tow
 ards professional help. It further expands on the effects of drugs and alc
 ohol\, incorporates the First Aid for Mental Health Action Plan and covers
  ways in\n\nwhich a positive mental health culture can be supported within
  a workplace. This course could be offered as a certificated course for a 
 group of up\n\nto 16 colleagues\, or as an uncertificated inset course for
  a whole staff body.\n\nTopics covered:\n\n 	What is First Aid for Mental 
 Health?\n 	Identifying mental health conditions\n 	Providing advice and st
 arting a conversation\n 	Stress\n 	Mental health conditions\n 	Drugs and a
 lcohol\n 	First Aid for Mental Health action plan\n 	First Aid for Mental 
 Health in the workplace\n\nCourse duration: 1 Day course (6 hours)\n\nPric
 e for a group of 16: £450\n\n&nbsp\;\nBook this Course\n[contact-form][co
 ntact-field label="Name" type="name" required="1"][contact-field label="Em
 ail" type="email" required="1"][contact-field label="Message" type="textar
 ea"][/contact-form]
ATTACH;FMTTYPE=image/jpeg:https://i0.wp.com/edufirstaid.com/wp-content/upl
 oads/2022/08/Copy-of-Copy-of-Mental-Health-FIRST-AID-820-%C3%97-312px-Inst
 agram-Post-Square.jpg?fit=1080%2C1080&ssl=1
CATEGORIES:First Aid Courses
END:VEVENT
BEGIN:VEVENT
UID:5@edufirstaid.com
DTSTART:20220914T000000Z
DTEND:20230914T000000Z
DTSTAMP:20221025T111337Z
URL:https://edufirstaid.com/events/faa-level-3-award-in-emergency-paediatr
 ic-first-aid-qcf-for-schools-and-nurseries/
SUMMARY:Emergency Paediatric First Aid Course
DESCRIPTION:[caption id="attachment_600" align="alignright" width="300"] Pa
 ediatric First Aid Course in Cumbria[/caption]\nEmergency Paediatric First
  Aid Course (EPFA)\nStaff who work with children under 18 and who need an 
 essential knowledge of first aid should take this Level 3 EPFA course. It 
 is not aimed at those with overall responsibility for first aid in a setti
 ng\, however\, it is approved by OFSTED and EYFS. Therefore\, this is sui
 table for Nursery and EYFS staff who do not hold overall responsibility in
  their school or nursery\, but who may need to help or support in first ai
 d. It has plenty of practical elements to the day.\n\nFurthermore\, this c
 ourse also acts as Day 1 of the 2-day Paediatric First Aid at Work (PFA)\,
  and so you may wish to combine Day 1 with the longer 2 Day course\, with 
 some colleagues only doing Day 1.\nFirst Aid Topics covered include:\n\n 	
 Role of the First Aider\n 	Seizure\n 	Primary survey\n 	Choking\n 	Resusci
 tation (CPR including the safe use of an AED)\n 	Minor injuries\n 	Wounds\
 , bleeding\, and shock\n 	Recovery position\n\n\nWhere can I take the Firs
 t Aid Training?\nWe deliver this First Aid Course across Cumbria\, and add
 itionally further afield across the UK. Please make contact to arrange det
 ails.\n\nHow long is the First Aid Course?\nCourse duration: 1 Day course 
 (6 hours). You can split this 6 hour course over two shorter sessions by a
 rrangement. \n\nHow much does the Paediatric First Aid Course Cost?\nPric
 e per person: £100\nPrice for a group of 12 (16yrs+*): £600\n\n&nbsp\;\n
 Further First Aid Information\nAll CPR teaching is approved by the Britis
 h Heart Foundation\n\nView all our courses\n\nView our reviews on our Fa
 cebook Page\n\n&nbsp\;\nFlexible Booking\nYou can book the course for up t
 o 12 employees at your workplace\, or you can join one of the PFA open cou
 rses that are published on the EDU First Aid site.\n\nTo enquire about boo
 king this course for your workplace\, please complete the form below.\nBoo
 k this Course\n[contact-form][contact-field label="Name" type="name" requi
 red="1"][contact-field label="Email" type="email" required="1"][contact-fi
 eld label="Message" type="textarea"][/contact-form]
ATTACH;FMTTYPE=image/jpeg:https://i0.wp.com/edufirstaid.com/wp-content/upl
 oads/2022/08/emergency-Paediatric-FIRST-AID-820-%C3%97-312px-Instagram-Pos
 t-Square.jpg?fit=1080%2C1080&ssl=1
CATEGORIES:First Aid Courses
END:VEVENT
BEGIN:VEVENT
UID:16@edufirstaid.com
DTSTART:20220914T000000Z
DTEND:20230914T000000Z
DTSTAMP:20220920T154548Z
URL:https://edufirstaid.com/events/level-3-award-in-first-aid-for-mental-h
 ealth-for-school-staff-1-day/
SUMMARY:First Aid for Mental Health (Senior School Staff) (2 Day)
DESCRIPTION:\n\nThis Level 3 2-day course provides colleagues with an excep
 tionally thorough knowledge of specific mental health disorders\, the supp
 ort and treatments offered. Colleagues will learn how to start a conversat
 ion\, offer mental health first aid\, and signpost the person towards prof
 essional help. The course covers ways in which a positive mental health cu
 lture can be supported within a workplace\, and time will be given to brai
 nstorming specific initiatives that you and your school can implement to s
 upport and improve the wellbeing of your staff body. This course could be 
 offered as a certificated course for a group of up to 16 colleagues\, who 
 will take responsibility for the mental health and wellbeing of your schoo
 l. The course concludes with oral questioning and a multiple choice quiz.\
 n\nTopics covered:\n\n 	What is First Aid for Mental Health?\n 	Identifyin
 g mental health conditions\n 	Providing advice and starting a conversation
 \n 	Stress\n 	Mental health conditions\n 	Drugs and alcohol\n 	First Aid f
 or Mental Health action plan\n 	Post-traumatic stress disorder\n 	Self-har
 m\n 	Suicide\n 	Eating disorders\n 	Personality disorders\n 	Bipolar disor
 der\n 	Psychosis\n 	Schizophrenia\n 	Depression\n 	Anxiety\n\nCourse durat
 ion: 2 Day course (12 hours)\n\nPrice for a group of 16: £1250\n\n&nbsp\;
 \nBook this Course\n[contact-form][contact-field label="Name" type="name" 
 required="1"][contact-field label="Email" type="email" required="1"][conta
 ct-field label="Message" type="textarea"][/contact-form]
ATTACH;FMTTYPE=image/jpeg:https://i0.wp.com/edufirstaid.com/wp-content/upl
 oads/2022/08/Mental-Health-2-day.jpg?fit=1080%2C1080&ssl=1
CATEGORIES:First Aid Courses
END:VEVENT
BEGIN:VEVENT
UID:7@edufirstaid.com
DTSTART:20220914T000000Z
DTEND:20230914T000000Z
DTSTAMP:20220913T112043Z
URL:https://edufirstaid.com/events/faa-level-2-award-in-activity-first-aid
 -qcf/
SUMMARY:Level 3 Award in Activity First Aid
DESCRIPTION:This regulated course is aimed at people who lead or take part 
 in outdoor activities\, sporting events\, or high-risk activities. It cove
 rs essential first aid as well as medical emergencies and major injuries. 
 It takes two days\, with plenty of practical elements to the course and is
  completed with a short\, paper-based test at the end. It would be ideal f
 or school staff leading a residential trip\, or those who run DofE expedit
 ions\, sports courses or clubs. \n\nActivity First Aid covers the followi
 ng topics:\n\n 	Responsibilities and reporting\n 	Assessment of the situat
 ion\n 	Resuscitation\n 	Basic hygiene in First Aid\n 	Dealing with an unre
 sponsive casualty\n 	Angina\n 	Heart attacks\n 	Choking\n 	Minor injuries\
 n 	Seizures\n 	Bleeding control\n 	Shock\n 	Fractures\n 	Head injuries\n 	
 Asthma\n 	Drowning injuries\n 	Diabetes\n 	Burns\n 	Electrical injuries\n 
 	Spinal injuries\n 	Heat and cold\n\n&nbsp\;\n\nCourse duration: 2 Day cou
 rse (12 hours)\n\nPrice per person: £200\n\nPrice for a group of 12 (14yr
 s+*): £1050\n\n&nbsp\;\nBook this Course\n[contact-form][contact-field la
 bel="Name" type="name" required="1"][contact-field label="Email" type="ema
 il" required="1"][contact-field label="Message" type="textarea"][/contact-
 form]
ATTACH;FMTTYPE=image/jpeg:https://i0.wp.com/edufirstaid.com/wp-content/upl
 oads/2022/08/ACTIVITY-FIRST-AID-820-%C3%97-312px-Instagram-Post-Square-1.j
 pg?fit=1080%2C1080&ssl=1
CATEGORIES:First Aid Courses
END:VEVENT
BEGIN:VEVENT
UID:17@edufirstaid.com
DTSTART:20220914T000000Z
DTEND:20230914T000000Z
DTSTAMP:20221024T134152Z
URL:https://edufirstaid.com/events/consultancy/
SUMMARY:Independent Schools Medical Room Consultancy
DESCRIPTION:\n\nClaire has workied in Independent Boarding Schools for 18 y
 ears and has a wealth of experience running a medical room\, liaising with
  the Heads of Pastoral Care\, Houseparents\, and communicating with parent
 s\, ensuring compliance\, training staff and developing the mental health 
 and wellbeing care of staff and pupils.\n\nWhen Claire started at Beechwoo
 d Park in 2011\, the medical room was a place for children to have a glass
  of squash at breaktime if they fell over - something which did not help w
 ith exercise or social time with friends. Claire built the surgery to beco
 me a place where medical care\, triage and first aid were a priority\, and
  given space\, facilities\, training and equipped to ensure that was a foc
 us for all first aiders in the school.\n\nFurther\, Claire developed the m
 edical room to be a hub of information about the wellbeing of children and
  staff. The medical room was a place to drop in and discuss a child who wa
 sn't quite themselves\, and Claire developed a culture of sharing informat
 ion with form tutors\, heads of year and SLT through weekly staff meetings
 \, and specific pastoral meetings. This grew into the referral system for 
 art therapy\, counselling a space for a time out.\n\nClaire also drew toge
 ther medical policies\, re-wrote the handbooks\, and developed practice-ba
 sed policies that echoed and followed EYFS\, OFSTED\, NMS and ISI guidance
  so that the boarding house and medical room were compliant. Claire change
 d the initial medical forms to garner more relevant medical data from pare
 nts\, and updated the MIS so that certain information was retrievable by f
 orm teachers and sports staff. From here\, Claire developed CPD for staff 
 in basic first aid\, plus sports coach specific training such as sports in
 juries\, concussion and red flags.\n\nClaire can help your school\, medica
 l room or boarding house to get on top of policy writing\, developing past
 oral referral systems\, engender pastoral sharing and help create a rollin
 g training programme for staff. This will ensure that medical provision in
  the boarding house and school are compliant\, and provide outstanding car
 e for the pupils.\n\nClaire can help you to develop in the following areas
 :\n\n 	Medical Policies and handbooks\n 	Medical compliance\, including NM
 S and ISI\n 	Boarding Compliance\n 	EYFS OFSTED Compliance\n 	Referral sys
 tems for counselling\n 	SWOT analysis\n\n&nbsp\;\n\nPrice: POA\n\n&nbsp\;\
 nBook this Course\n[contact-form][contact-field label="Name" type="name" r
 equired="1"][contact-field label="Email" type="email" required="1"][contac
 t-field label="Message" type="textarea"][/contact-form]
ATTACH;FMTTYPE=image/jpeg:https://i0.wp.com/edufirstaid.com/wp-content/upl
 oads/2022/10/medical-room-consultancy-FIRST-AID-820-%C3%97-312px-Instagram
 -Post-Square.png?fit=1080%2C1080&ssl=1
CATEGORIES:First Aid Courses
END:VEVENT
BEGIN:VEVENT
UID:8@edufirstaid.com
DTSTART:20220914T000000Z
DTEND:20230914T000000Z
DTSTAMP:20221215T105056Z
URL:https://edufirstaid.com/events/faa-level-2-award-in-basic-life-support
 -safe-use-of-an-automated-external-defibrillator-qcf/
SUMMARY:Basic Life Support and use of AED (Half Day)
DESCRIPTION:This short Level 2 course is aimed at anyone who would like to 
 be confident in basic life-saving first aid\, as well as how to safely use
  a defibrillator. It is useful for those who may have responsibility for a
  workplace or community AED.  The course is practical and is assessed thr
 ough practical elements and a short\, paper-based test at the end.\nThe qu
 alification can be awarded to Pupils over 14.\nCourse duration: Half-day c
 ourse (4 hours)\nPrice per person: £50\nPrice for a group of 12(14yrs+*):
  £300\n&nbsp\;\nBook this Course\n[contact-form][contact-field label="Nam
 e" type="name" required="1"][contact-field label="Email" type="email" requ
 ired="1"][contact-field label="Message" type="textarea"][/contact-form]
ATTACH;FMTTYPE=image/jpeg:https://i0.wp.com/edufirstaid.com/wp-content/upl
 oads/2022/08/BLSAED-FIRST-AID-820-%C3%97-312px-Instagram-Post-Square.jpg?f
 it=1080%2C1080&ssl=1
CATEGORIES:First Aid Courses
END:VEVENT
BEGIN:VEVENT
UID:12@edufirstaid.com
DTSTART:20220914T000000Z
DTEND:20230914T000000Z
DTSTAMP:20220913T110805Z
URL:https://edufirstaid.com/events/level-3-award-in-emergency-first-aid-at
 -work/
SUMMARY:Emergency First Aid at Work
DESCRIPTION:This Level 3 regulated course is particularly aimed at colleagu
 es who need an essential level of first aid training\, and essential first
  aid to cover playground duty\, lunch supervisors\, classroom assistants a
 nd teachers. \n\nThis course also acts as Day 1 of the 3-day First Aid at
  Work\, and you may wish for some delegates to attend day 1 of the longer 
 course.\n\nTopics covered include:\n\n 	Role of the First Aider\n 	Seizure
 s\n 	Primary survey\n 	Choking\n 	Resuscitation (CPR including the safe us
 e of an AED)\n 	Minor injuries\n 	Wounds\, bleeding\, and shock\n 	Recover
 y position\n\nCourse duration: 1 Day course (6 hours)\n\nPrice per person:
  £100\n\nPrice for a group of 12 (16yrs+*): £600\n\n&nbsp\;\nBook this C
 ourse\n[contact-form][contact-field label="Name" type="name" required="1"]
 [contact-field label="Email" type="email" required="1"][contact-field labe
 l="Message" type="textarea"][/contact-form]
ATTACH;FMTTYPE=image/jpeg:https://i0.wp.com/edufirstaid.com/wp-content/upl
 oads/2022/08/EFAW-FIRST-AID-820-%C3%97-312px-Instagram-Post-Square.jpg?fit
 =1080%2C1080&ssl=1
CATEGORIES:First Aid Courses
END:VEVENT
BEGIN:VEVENT
UID:13@edufirstaid.com
DTSTART:20220914T000000Z
DTEND:20230914T000000Z
DTSTAMP:20220913T104233Z
URL:https://edufirstaid.com/events/pupil-first-aid-6-13/
SUMMARY:Pupil First Aid (Year 6-Year 13)
DESCRIPTION:This course is particularly aimed at young people in schools. F
 irst aid is part of the curriculum for all school-aged children from Year 
 6 upwards\, and covers topics to equip them to deal with an emergency. Thi
 s course can be covered in 12 x 1hr slots\, or as part of an enrichment pr
 ogramme.\n\nFirst aid training can be incorporated into many areas of the 
 curriculum such as:\n\n 	PSHE\n 	Citizenship\n 	PE\n 	Sports Leaders Award
 \n 	The Duke of Edinburgh Award\n\nTopics covered include:\n\n 	What is fi
 rst aid?\n 	Primary survey\n 	Choking\n 	Resuscitation (CPR including the 
 safe use of an AED)\n 	Common injuries\n 	Recovery position\n\nPrice per c
 ourse: by arrangement.\n\n&nbsp\;\n\n&nbsp\;\nBook this Course\n[contact-f
 orm][contact-field label="Name" type="name" required="1"][contact-field la
 bel="Email" type="email" required="1"][contact-field label="Message" type=
 "textarea"][/contact-form]
ATTACH;FMTTYPE=image/jpeg:https://i0.wp.com/edufirstaid.com/wp-content/upl
 oads/2022/08/PUPIL-FIRST-AID-820-%C3%97-312px-Instagram-Post-Square.jpg?fi
 t=1080%2C1080&ssl=1
CATEGORIES:First Aid Courses
END:VEVENT
END:VCALENDAR